BEGIN:VCALENDAR
VERSION:2.0
PRODID:-//eventon.com NONSGML v1.0//EN
CALSCALE:GREGORIAN
METHOD:PUBLISH
BEGIN:VEVENT
UID:69e8a49c2368e
DTSTAMP:20260422T103612Z
DTSTART:20250913T154500Z
DTEND:20250913T171500Z
LOCATION:Phoenix Flight Studio 2216 Central Ave NE
SUMMARY:Slow and Sensual Choreo
DESCRIPTION:Level: Advanced beginner and up Set the mood and take it nice a
 nd slow. Learn choreo that brings your sensuality into your flow. $85/perso
 n Register\nhttps://phoenixflightstudio.com/events/mesmerized/
URL:https://phoenixflightstudio.com/events/mesmerized/
END:VEVENT
END:VCALENDAR