BEGIN:VCALENDAR
VERSION:2.0
PRODID:-//eventon.com NONSGML v1.0//EN
CALSCALE:GREGORIAN
METHOD:PUBLISH
BEGIN:VEVENT
UID:69e74ffa1aff2
DTSTAMP:20260421T102250Z
DTSTART:20251122T221500Z
DTEND:20251122T234500Z
LOCATION:Phoenix Flight Studio 2216 Central Ave NE
SUMMARY:Duo Lollipop
DESCRIPTION:Level: Adv beginner and up. Not beginner friendly\,  some pole 
 or Lyra experience required. In the spirit of do all the things join Jane i
 n a duo lollipop workshop. Bring a friend and sensual side as we explore th
 is amalgamation of Lyra and pole. $45/person Register\nhttps://phoenixfligh
 tstudio.com/events/duo-lollipop/
URL:https://phoenixflightstudio.com/events/duo-lollipop/
END:VEVENT
END:VCALENDAR