BEGIN:VCALENDAR
VERSION:2.0
PRODID:-//eventon.com NONSGML v1.0//EN
CALSCALE:GREGORIAN
METHOD:PUBLISH
BEGIN:VEVENT
UID:69e88e7674155
DTSTAMP:20260422T090142Z
DTSTART:20251122T203000Z
DTEND:20251122T220000Z
LOCATION:Phoenix Flight Studio 2216 Central Ave NE
SUMMARY:Lollipop 101
DESCRIPTION:Two apparatuses are better than one! Join Jane for lollipop 101
 \,  half lyra\,  half pole\,  twice the fun. This workshop is designed for 
 aerialists and polers alike\,  some experience with either apparatus is sug
 gested. $45/person Register\nhttps://phoenixflightstudio.com/events/lollipo
 p-101/
URL:https://phoenixflightstudio.com/events/lollipop-101/
END:VEVENT
END:VCALENDAR